BEGIN:VCALENDAR
VERSION:2.0
PRODID:-//hacksw/handcal//NONSGML v1.0//EN
BEGIN:VEVENT
SUMMARY:Mechoui - Le Chapeau
UID:9cab5594-fc4f-4174-aa34-e876dc9d2447
DTSTART:20260606T103000Z
DTEND:20260606T214500Z
LOCATION:Localisation le Chapeau  challonnes sur Loire
CATEGORIES:Festif
STATUS:
DESCRIPTION:<p>La Societe du Chapeau organise un mechoui sous
 chapiteau ( Jambon grille accompagne de ses
 legumes...)</p>
 
 <p><strong>SAMEDI 06 JUIN A
 12H30</strong></p>
 
 <p>Reponse pour le 20 mai dernier
 delai...</p>
 
 <p>Rendre reponse aux personnes du bureau
 "Chapeau"</p>
 
 <p>ou reservation au 0675686114</p>
URL;VALUE=URI:https://labouledesable-pdll.sportsregions.fr/evenements/2026/06/06/mechoui-le-chapeau-2421043
END:VEVENT
END:VCALENDAR
