BEGIN:VCALENDAR
VERSION:2.0
PRODID:-//hacksw/handcal//NONSGML v1.0//EN
BEGIN:VEVENT
SUMMARY:Mechoui - Le Chapeau
UID:9cab5594-fc4f-4174-aa34-e876dc9d2447
DTSTART:20260606T103000Z
DTEND:20260606T214500Z
LOCATION:Localisation le Chapeau  challonnes sur Loire
CATEGORIES:Festif
STATUS:
DESCRIPTION:<p>La Societe du Chapeau organise un mechoui sous
 chapiteau ( Jambon grille accompagne de ses
 legumes...)</p>
 
 <p><strong>SAMEDI 06 JUIN A
 12H30</strong></p>
 
 <p>Reponse pour le 20 mai dernier
 delai...</p>
 
 <p>Rendre reponse aux personnes du bureau
 "Chapeau"</p>
 
 <p>ou reservation au 0675686114</p>
URL;VALUE=URI:https://labouledesable-pdll.sportsregions.fr/evenements/2026/06/06/mechoui-le-chapeau-2421043
END:VEVENT
BEGIN:VEVENT
SUMMARY:Soiree Guinguette - L'Union du Coeur du Roy
UID:7b13e133-5249-46db-8a6a-1de10269493f
DTSTART:20260627T170000Z
DTEND:20260627T214500Z
LOCATION:Localisation Le Coeur du Roy  St Germain des pres
CATEGORIES:Festif
STATUS:
DESCRIPTION:<p>Reservation a l'avance au 0241424015 ou 0687295662 et
 Carte d'Adherent</p>
URL;VALUE=URI:https://labouledesable-pdll.sportsregions.fr/evenements/2026/06/27/soiree-guinguette-lunion-du-coeur-du-roy-2421037
END:VEVENT
BEGIN:VEVENT
SUMMARY:Soiree Mechoui - L'Union du Coeur du Roy
UID:ad758940-5183-4fb9-be9b-e3c8c461d898
DTSTART:20260829T170000Z
DTEND:20260829T214500Z
LOCATION:Localisation Le Coeur du Roy  St Germain des pres
CATEGORIES:Festif
STATUS:
DESCRIPTION:<p>Reservation a l'avance au 0241424015 ou 0687295662 et
 Cartes d'Adherent</p>
URL;VALUE=URI:https://labouledesable-pdll.sportsregions.fr/evenements/2026/08/29/soiree-mechoui-lunion-du-coeur-du-roy-2421051
END:VEVENT
BEGIN:VEVENT
SUMMARY:Soiree Joue de Porc - L'Union du Coeur du Roy
UID:e3e5e8b4-8fb9-4657-8c13-7ed4fa115a11
DTSTART:20261024T170000Z
DTEND:20261024T214500Z
LOCATION:Localisation Le Coeur du Roy  St Germain des pres
CATEGORIES:Festif
STATUS:
DESCRIPTION:<p>Reservation a l'avance au 0241424015 ou 0687295662 et
 Carte d'Adherent</p>
URL;VALUE=URI:https://labouledesable-pdll.sportsregions.fr/evenements/2026/10/24/soiree-joue-de-porc-lunion-du-coeur-du-roy-2421055
END:VEVENT
BEGIN:VEVENT
SUMMARY:Concours de Belote - Le Cercle St Germain
UID:c3b54468-5b1f-4906-a34b-e570b9cb888e
DTSTART:20261030T230000Z
DTEND:20261031T230000Z
LOCATION:Localisation Espace des Goganes  St Germain des pres
CATEGORIES:Festif
STATUS:
DESCRIPTION:<p>En Partenariat avec le Coeur du Roy</p>
URL;VALUE=URI:https://labouledesable-pdll.sportsregions.fr/evenements/2026/10/31/concours-de-belote-le-cercle-st-germain-2421056
END:VEVENT
BEGIN:VEVENT
SUMMARY:Soiree Tete de Veau - L'Union du Coeur du Roy
UID:f7495afa-99cb-4255-9c17-367bebad6359
DTSTART:20261121T180000Z
DTEND:20261121T224500Z
LOCATION:Localisation Le Coeur du Roy  St Germain des pres
CATEGORIES:Festif
STATUS:
URL;VALUE=URI:https://labouledesable-pdll.sportsregions.fr/evenements/2026/11/21/soiree-tete-de-veau-lunion-du-coeur-du-roy-2421057
END:VEVENT
END:VCALENDAR
