BEGIN:VCALENDAR
VERSION:2.0
PRODID:-//hacksw/handcal//NONSGML v1.0//EN
BEGIN:VEVENT
SUMMARY:Rencontre 2B Equipes 4 - 6
UID:73dc902d-6973-4210-8547-647670a9e8c0
DTSTART:20260319T230000Z
DTEND:20260320T230000Z
LOCATION:Localisation   
CATEGORIES:Sportif
STATUS:
URL;VALUE=URI:https://labouledesable-pdll.sportsregions.fr/evenements/2026/03/20/rencontre-2b-equipes-4-6-2408678
END:VEVENT
END:VCALENDAR
