BEGIN:VCALENDAR
VERSION:2.0
PRODID:-//hacksw/handcal//NONSGML v1.0//EN
BEGIN:VEVENT
SUMMARY:Rencontre 1E Equipes 6 - 13
UID:d3989d2a-d4d9-4437-b5e0-07413722c51a
DTSTART:20260326T230000Z
DTEND:20260327T230000Z
LOCATION:Localisation   
CATEGORIES:Sportif
STATUS:
URL;VALUE=URI:https://labouledesable-pdll.sportsregions.fr/evenements/2026/03/27/rencontre-1e-equipes-6-13-2398414
END:VEVENT
END:VCALENDAR
