BEGIN:VCALENDAR
VERSION:2.0
PRODID:-//hacksw/handcal//NONSGML v1.0//EN
BEGIN:VEVENT
SUMMARY:Rencontre 2A  Equipes 13 - 14
UID:92da4131-9596-4860-b54c-bbeb9ce67bbe
DTSTART:20260402T220000Z
DTEND:20260403T220000Z
LOCATION:Localisation   
CATEGORIES:Sportif
STATUS:
URL;VALUE=URI:https://labouledesable-pdll.sportsregions.fr/evenements/2026/04/03/rencontre-2a-equipes-13-14-2408677
END:VEVENT
END:VCALENDAR
