BEGIN:VCALENDAR
VERSION:2.0
PRODID:-//hacksw/handcal//NONSGML v1.0//EN
BEGIN:VEVENT
SUMMARY:Rencontre 4D Equipes 10 - 15
UID:52da88f1-c207-45d7-8dc3-8b375d4253a0
DTSTART:20260402T220000Z
DTEND:20260403T220000Z
LOCATION:Localisation le chapeau  Chalonnes sur loire
CATEGORIES:Sportif
STATUS:
URL;VALUE=URI:https://labouledesable-pdll.sportsregions.fr/evenements/2026/04/03/rencontre-4d-equipes-10-15-2408694
END:VEVENT
END:VCALENDAR
