BEGIN:VCALENDAR
VERSION:2.0
PRODID:-//hacksw/handcal//NONSGML v1.0//EN
BEGIN:VEVENT
SUMMARY:Rencontre 3B Equipes 7 - 10
UID:a204a6e9-f270-4e03-b8ae-c22388da2b59
DTSTART:20260404T220000Z
DTEND:20260405T220000Z
LOCATION:Localisation   beausse
CATEGORIES:Sportif
STATUS:
URL;VALUE=URI:https://labouledesable-pdll.sportsregions.fr/evenements/2026/04/05/rencontre-3b-equipes-7-10-2408685
END:VEVENT
END:VCALENDAR
