BEGIN:VCALENDAR
VERSION:2.0
PRODID:-//hacksw/handcal//NONSGML v1.0//EN
BEGIN:VEVENT
SUMMARY:Rencontre 3C Equipes 15 - 3
UID:7421e3b3-d228-4dd5-ac9c-d75e78716a65
DTSTART:20260404T220000Z
DTEND:20260405T220000Z
LOCATION:Localisation   la Pommeraye
CATEGORIES:Sportif
STATUS:
URL;VALUE=URI:https://labouledesable-pdll.sportsregions.fr/evenements/2026/04/05/rencontre-3c-equipes-15-3-2408686
END:VEVENT
END:VCALENDAR
