BEGIN:VCALENDAR
VERSION:2.0
PRODID:-//hacksw/handcal//NONSGML v1.0//EN
BEGIN:VEVENT
SUMMARY:Rencontre 3E Equipes 14 - 4
UID:628cb8e4-9bd4-46e1-9808-6a66e0aa1487
DTSTART:20260404T220000Z
DTEND:20260405T220000Z
LOCATION:Localisation   Saint Augustin des Bois
CATEGORIES:Sportif
STATUS:
URL;VALUE=URI:https://labouledesable-pdll.sportsregions.fr/evenements/2026/04/05/rencontre-3e-equipes-14-4-2408688
END:VEVENT
END:VCALENDAR
