BEGIN:VCALENDAR
VERSION:2.0
PRODID:-//hacksw/handcal//NONSGML v1.0//EN
BEGIN:VEVENT
SUMMARY:Rencontre 3F Equipes 5 - 13
UID:258582cb-b370-4e83-8991-84fab3816f0b
DTSTART:20260404T220000Z
DTEND:20260405T220000Z
LOCATION:Localisation   St Florent le Vieil
CATEGORIES:Sportif
STATUS:
URL;VALUE=URI:https://labouledesable-pdll.sportsregions.fr/evenements/2026/04/05/rencontre-3f-equipes-5-13-2408689
END:VEVENT
END:VCALENDAR
