BEGIN:VCALENDAR
VERSION:2.0
PRODID:-//hacksw/handcal//NONSGML v1.0//EN
BEGIN:VEVENT
SUMMARY:Rencontre 3G Equipes 9 Exempt
UID:806348b6-578f-45bc-90af-d49d5d097eb9
DTSTART:20260404T220000Z
DTEND:20260405T220000Z
LOCATION:Localisation   
CATEGORIES:Sportif
STATUS:
URL;VALUE=URI:https://labouledesable-pdll.sportsregions.fr/evenements/2026/04/05/rencontre-3g-equipes-9-exempt-2408690
END:VEVENT
END:VCALENDAR
