BEGIN:VCALENDAR
VERSION:2.0
PRODID:-//hacksw/handcal//NONSGML v1.0//EN
BEGIN:VEVENT
SUMMARY:Rencontre 7F Equipes 3 - 10
UID:2b8d1d2e-4e17-471f-b133-205a25949b4f
DTSTART:20260409T220000Z
DTEND:20260410T220000Z
LOCATION:Localisation   
CATEGORIES:Sportif
STATUS:
URL;VALUE=URI:https://labouledesable-pdll.sportsregions.fr/evenements/2026/04/10/rencontre-7f-equipes-3-10-2441092
END:VEVENT
END:VCALENDAR
