BEGIN:VCALENDAR
VERSION:2.0
PRODID:-//hacksw/handcal//NONSGML v1.0//EN
BEGIN:VEVENT
SUMMARY:Rencontre 3A  Equipes 18 - 1
UID:02f076d0-7b17-432c-9413-4add759fc661
DTSTART:20260417T173000Z
DTEND:20260417T220000Z
LOCATION:Localisation   Belligne
CATEGORIES:Sportif
STATUS:
DESCRIPTION:<p>Le match se joue a Belligne pour cause de travaux a la
 Juiverie Beaupreau</p>
URL;VALUE=URI:https://labouledesable-pdll.sportsregions.fr/evenements/2026/04/17/rencontre-3a-equipes-18-1-2408684
END:VEVENT
END:VCALENDAR
