BEGIN:VCALENDAR
VERSION:2.0
PRODID:-//hacksw/handcal//NONSGML v1.0//EN
BEGIN:VEVENT
SUMMARY:Rencontre 4B Equipes 12 - 14
UID:07792bdf-4096-4c8c-a4a8-37a70118adf4
DTSTART:20260416T220000Z
DTEND:20260417T220000Z
LOCATION:Localisation   
CATEGORIES:Sportif
STATUS:
URL;VALUE=URI:https://labouledesable-pdll.sportsregions.fr/evenements/2026/04/17/rencontre-4b-equipes-12-14-2408692
END:VEVENT
END:VCALENDAR
