BEGIN:VCALENDAR
VERSION:2.0
PRODID:-//hacksw/handcal//NONSGML v1.0//EN
BEGIN:VEVENT
SUMMARY:Concours boule de Sable - La Basse Ile
UID:740fca47-669a-470a-87dc-6922b1ee8b8d
DTSTART:20260613T120000Z
DTEND:20260613T210000Z
LOCATION:Localisation la Basse Ile  Chalonnes sur Loire
CATEGORIES:Sportif
STATUS:
URL;VALUE=URI:https://labouledesable-pdll.sportsregions.fr/evenements/2026/06/13/concours-boule-de-sable-la-basse-ile-2442986
END:VEVENT
END:VCALENDAR
